BEGIN:VCALENDAR
VERSION:2.0
PRODID:-//SVP Kreuzlingen //NONSGML Events //EN
CALSCALE:GREGORIAN
X-WR-CALNAME:SVP Kreuzlingen
BEGIN:VEVENT
CREATED:20230111T161650Z
UID:907
DTEND:20230121T130000
DTSTART:20230121T093000
DTSTAMP:20260423T214633Z
LOCATION:PIAZZA CISTERNINO
DESCRIPTION:Frische Berliner &nbsp; Wann: 21. Januar.2023 Ab: 9:30 Uhr bis 13:00 U
SUMMARY:Frische Berliner
ORGANIZER:
URL;VALUE=URI:https://www.svpkreuzlingen.ch/termine/frische-berliner/
TRANSP:OPAQUE
END:VEVENT
END:VCALENDAR
